BEGIN:VCALENDAR
VERSION:2.0
PRODID:-//Squarespace Inc/Squarespace 6//v6//EN
BEGIN:VEVENT
UID:5fb46ee3df7477297d389c65@squarespace.com
DTSTAMP:20190919T225615Z
DTSTART:20210722T163000Z
DTEND:20210726T203000Z
SUMMARY:Annual Plant Sale
END:VEVENT
END:VCALENDAR
