BEGIN:VCALENDAR
VERSION:2.0
PRODID:-//Squarespace Inc/Squarespace 6//v6//EN
BEGIN:VEVENT
UID:5fb46ee3df7477297d389c63@squarespace.com
DTSTAMP:20190919T225628Z
DTSTART:20210714T170000Z
DTEND:20210714T180000Z
SUMMARY:Free Compost Workshop
END:VEVENT
END:VCALENDAR
