BEGIN:VCALENDAR
VERSION:2.0
PRODID:-//Squarespace Inc/Squarespace 6//v6//EN
BEGIN:VEVENT
UID:5fb46ee3df7477297d389c67@squarespace.com
DTSTAMP:20190919T225602Z
DTSTART:20210804T163000Z
DTEND:20210804T173000Z
SUMMARY:Roseti Community Meeting
END:VEVENT
END:VCALENDAR
